BEGIN:VCALENDAR
VERSION:2.0
PRODID:-//TrailMix Northwest Arkansas - ECPv6.15.20//NONSGML v1.0//EN
CALSCALE:GREGORIAN
METHOD:PUBLISH
X-ORIGINAL-URL:https://trailmixnwa.org
X-WR-CALDESC:Events for TrailMix Northwest Arkansas
REFRESH-INTERVAL;VALUE=DURATION:PT1H
X-Robots-Tag:noindex
X-PUBLISHED-TTL:PT1H
BEGIN:VTIMEZONE
TZID:America/Chicago
BEGIN:DAYLIGHT
TZOFFSETFROM:-0600
TZOFFSETTO:-0500
TZNAME:CDT
DTSTART:20240310T080000
END:DAYLIGHT
BEGIN:STANDARD
TZOFFSETFROM:-0500
TZOFFSETTO:-0600
TZNAME:CST
DTSTART:20241103T070000
END:STANDARD
BEGIN:DAYLIGHT
TZOFFSETFROM:-0600
TZOFFSETTO:-0500
TZNAME:CDT
DTSTART:20250309T080000
END:DAYLIGHT
BEGIN:STANDARD
TZOFFSETFROM:-0500
TZOFFSETTO:-0600
TZNAME:CST
DTSTART:20251102T070000
END:STANDARD
BEGIN:DAYLIGHT
TZOFFSETFROM:-0600
TZOFFSETTO:-0500
TZNAME:CDT
DTSTART:20260308T080000
END:DAYLIGHT
BEGIN:STANDARD
TZOFFSETFROM:-0500
TZOFFSETTO:-0600
TZNAME:CST
DTSTART:20261101T070000
END:STANDARD
END:VTIMEZONE
BEGIN:VEVENT
DTSTART;TZID=America/Chicago:20250302T100000
DTEND;TZID=America/Chicago:20250302T120000
DTSTAMP:20260422T045320
CREATED:20250207T002450Z
LAST-MODIFIED:20250207T002450Z
UID:4096-1740909600-1740916800@trailmixnwa.org
SUMMARY:TrailMix Sunday at Luther George Park
DESCRIPTION:Join us for a classic TrailMix Sunday potluck gathering at this newly reopened park.\n\nMonthly Theme: Spring Awakens\n\nEvent Schedule10am: Arrival & Welcome10:15am: Moment of Science 10:25am: Story time10:35am: Values lesson10:55am: Hike or park play 11:40am: Wrap-up & Goodbyes
URL:https://trailmixnwa.org/event/trailmix-sunday-at-luther-george-park/
LOCATION:Luther George Park\, 300 Park Street\, Springdale\, AR\, United States
ORGANIZER;CN="TrailMix NWA":MAILTO:trailmixsundaysnwa@gmail.com
END:VEVENT
BEGIN:VEVENT
DTSTART;TZID=America/Chicago:20250316T100000
DTEND;TZID=America/Chicago:20250316T120000
DTSTAMP:20260422T045320
CREATED:20250207T003817Z
LAST-MODIFIED:20250217T191517Z
UID:4098-1742119200-1742126400@trailmixnwa.org
SUMMARY:TrailMix Sunday at Creekside Park (Farmington)
DESCRIPTION:Join us for a classic TrailMix Sunday potluck and Spring themed craft!\n\nMonthly Theme: Spring Awakens\n\nEvent Schedule10am: Arrival & Welcome10:15am: Moment of Science 10:25am: Story time10:35am: Newspaper seed starters10:55am: Hike or park play 11:40am: Wrap-up & Goodbyes
URL:https://trailmixnwa.org/event/trailmix-sunday-creekside-park-farmington/
LOCATION:Creekside Park\, 54 N Hunter St\, Farmington\, AR\, 72730\, United States
ORGANIZER;CN="TrailMix NWA":MAILTO:trailmixsundaysnwa@gmail.com
END:VEVENT
BEGIN:VEVENT
DTSTART;TZID=America/Chicago:20250323T100000
DTEND;TZID=America/Chicago:20250323T120000
DTSTAMP:20260422T045320
CREATED:20250207T004053Z
LAST-MODIFIED:20250207T032318Z
UID:4100-1742724000-1742731200@trailmixnwa.org
SUMMARY:TrailMix Celebration: Spring Equinox Feast
DESCRIPTION:Celebrate the changing seasons with TrailMix NWA at our Spring Equinox Feast! Join us for a cozy gathering filled with delicious food\, great company\, and the spirit of renewal. Let’s welcome spring together with a shared meal and community connection. \n\nStay tuned for more info!
URL:https://trailmixnwa.org/event/trailmix-celebration-spring-equinox-feast/
LOCATION:Orchard Park Pavillion\, 1100 NE John Deshields Blvd\, Bentonville\, AR\, 72712\, United States
ORGANIZER;CN="TrailMix NWA":MAILTO:trailmixsundaysnwa@gmail.com
END:VEVENT
BEGIN:VEVENT
DTSTART;TZID=America/Chicago:20250328T150000
DTEND;TZID=America/Chicago:20250330T120000
DTSTAMP:20260422T045320
CREATED:20250207T032001Z
LAST-MODIFIED:20250207T032001Z
UID:4102-1743174000-1743336000@trailmixnwa.org
SUMMARY:TrailMix Campout at Devil's Den
DESCRIPTION:TrailMix NWA Spring Campout at Devil’s Den \nJoin TrailMix NWA for a weekend of adventure at Devil’s Den State Park! While campsites are already booked\, we’re inviting everyone to join us on Saturday for a day of outdoor fun and community connection.\nSaturday’s Activities Include: Group Hike – Explore the beautiful trails of Devil’s Den with friends old and new. Potluck Dinner – Bring a dish to share and enjoy a meal together under the stars.\n Open to All – No campsite? No problem! Come down for the day (Saturday\, March 29) and join the activities.\nLet’s welcome spring with nature\, good food\, and great company!
URL:https://trailmixnwa.org/event/trailmix-campout-at-devils-den/
LOCATION:Devil’s Den State Park\, West Fork\, AR\, 72774\, United States
ORGANIZER;CN="TrailMix NWA":MAILTO:trailmixsundaysnwa@gmail.com
END:VEVENT
END:VCALENDAR